BEGIN:VCALENDAR
VERSION:2.0
PRODID:-//Starved Rock Runners - ECPv6.15.10//NONSGML v1.0//EN
CALSCALE:GREGORIAN
METHOD:PUBLISH
X-WR-CALNAME:Starved Rock Runners
X-ORIGINAL-URL:https://starvedrockrunners.org
X-WR-CALDESC:Events for Starved Rock Runners
REFRESH-INTERVAL;VALUE=DURATION:PT1H
X-Robots-Tag:noindex
X-PUBLISHED-TTL:PT1H
BEGIN:VTIMEZONE
TZID:America/Chicago
BEGIN:STANDARD
TZOFFSETFROM:-0600
TZOFFSETTO:-0600
TZNAME:CST
DTSTART:20720101T000000
END:STANDARD
END:VTIMEZONE
BEGIN:VEVENT
DTSTART;TZID=America/Chicago:20730516T190000
DTEND;TZID=America/Chicago:20730516T190000
DTSTAMP:20260420T050534
CREATED:20220725T212449Z
LAST-MODIFIED:20220725T212449Z
UID:10001683-3262186800-3262186800@starvedrockrunners.org
SUMMARY:Monthly Board Meeting
DESCRIPTION:More info coming soon.
URL:https://starvedrockrunners.org/event/monthly-board-meeting/2073-05-16/
CATEGORIES:Other Events
END:VEVENT
BEGIN:VEVENT
DTSTART;TZID=America/Chicago:20730620T190000
DTEND;TZID=America/Chicago:20730620T190000
DTSTAMP:20260420T050534
CREATED:20220725T212449Z
LAST-MODIFIED:20220725T212449Z
UID:10001684-3265210800-3265210800@starvedrockrunners.org
SUMMARY:Monthly Board Meeting
DESCRIPTION:More info coming soon.
URL:https://starvedrockrunners.org/event/monthly-board-meeting/2073-06-20/
CATEGORIES:Other Events
END:VEVENT
BEGIN:VEVENT
DTSTART;TZID=America/Chicago:20730718T190000
DTEND;TZID=America/Chicago:20730718T190000
DTSTAMP:20260420T050534
CREATED:20220725T212449Z
LAST-MODIFIED:20220725T212449Z
UID:10001685-3267630000-3267630000@starvedrockrunners.org
SUMMARY:Monthly Board Meeting
DESCRIPTION:More info coming soon.
URL:https://starvedrockrunners.org/event/monthly-board-meeting/2073-07-18/
CATEGORIES:Other Events
END:VEVENT
BEGIN:VEVENT
DTSTART;TZID=America/Chicago:20730815T190000
DTEND;TZID=America/Chicago:20730815T190000
DTSTAMP:20260420T050534
CREATED:20220725T212449Z
LAST-MODIFIED:20220725T212449Z
UID:10001686-3270049200-3270049200@starvedrockrunners.org
SUMMARY:Monthly Board Meeting
DESCRIPTION:More info coming soon.
URL:https://starvedrockrunners.org/event/monthly-board-meeting/2073-08-15/
CATEGORIES:Other Events
END:VEVENT
BEGIN:VEVENT
DTSTART;TZID=America/Chicago:20730919T190000
DTEND;TZID=America/Chicago:20730919T190000
DTSTAMP:20260420T050534
CREATED:20220725T212449Z
LAST-MODIFIED:20220725T212449Z
UID:10001687-3273073200-3273073200@starvedrockrunners.org
SUMMARY:Monthly Board Meeting
DESCRIPTION:More info coming soon.
URL:https://starvedrockrunners.org/event/monthly-board-meeting/2073-09-19/
CATEGORIES:Other Events
END:VEVENT
BEGIN:VEVENT
DTSTART;TZID=America/Chicago:20731017T190000
DTEND;TZID=America/Chicago:20731017T190000
DTSTAMP:20260420T050534
CREATED:20220725T212449Z
LAST-MODIFIED:20220725T212449Z
UID:10001688-3275492400-3275492400@starvedrockrunners.org
SUMMARY:Monthly Board Meeting
DESCRIPTION:More info coming soon.
URL:https://starvedrockrunners.org/event/monthly-board-meeting/2073-10-17/
CATEGORIES:Other Events
END:VEVENT
BEGIN:VEVENT
DTSTART;TZID=America/Chicago:20731121T190000
DTEND;TZID=America/Chicago:20731121T190000
DTSTAMP:20260420T050534
CREATED:20220725T212449Z
LAST-MODIFIED:20220725T212449Z
UID:10001689-3278516400-3278516400@starvedrockrunners.org
SUMMARY:Monthly Board Meeting
DESCRIPTION:More info coming soon.
URL:https://starvedrockrunners.org/event/monthly-board-meeting/2073-11-21/
CATEGORIES:Other Events
END:VEVENT
BEGIN:VEVENT
DTSTART;TZID=America/Chicago:20731219T190000
DTEND;TZID=America/Chicago:20731219T190000
DTSTAMP:20260420T050534
CREATED:20220725T212449Z
LAST-MODIFIED:20220725T212449Z
UID:10001690-3280935600-3280935600@starvedrockrunners.org
SUMMARY:Monthly Board Meeting
DESCRIPTION:More info coming soon.
URL:https://starvedrockrunners.org/event/monthly-board-meeting/2073-12-19/
CATEGORIES:Other Events
END:VEVENT
BEGIN:VEVENT
DTSTART;TZID=America/Chicago:20740116T190000
DTEND;TZID=America/Chicago:20740116T190000
DTSTAMP:20260420T050534
CREATED:20220725T212449Z
LAST-MODIFIED:20220725T212449Z
UID:10001691-3283354800-3283354800@starvedrockrunners.org
SUMMARY:Monthly Board Meeting
DESCRIPTION:More info coming soon.
URL:https://starvedrockrunners.org/event/monthly-board-meeting/2074-01-16/
CATEGORIES:Other Events
END:VEVENT
BEGIN:VEVENT
DTSTART;TZID=America/Chicago:20740220T190000
DTEND;TZID=America/Chicago:20740220T190000
DTSTAMP:20260420T050534
CREATED:20220725T212449Z
LAST-MODIFIED:20220725T212449Z
UID:10001692-3286378800-3286378800@starvedrockrunners.org
SUMMARY:Monthly Board Meeting
DESCRIPTION:More info coming soon.
URL:https://starvedrockrunners.org/event/monthly-board-meeting/2074-02-20/
CATEGORIES:Other Events
END:VEVENT
BEGIN:VEVENT
DTSTART;TZID=America/Chicago:20740320T190000
DTEND;TZID=America/Chicago:20740320T190000
DTSTAMP:20260420T050534
CREATED:20220725T212449Z
LAST-MODIFIED:20220725T212449Z
UID:10001693-3288798000-3288798000@starvedrockrunners.org
SUMMARY:Monthly Board Meeting
DESCRIPTION:More info coming soon.
URL:https://starvedrockrunners.org/event/monthly-board-meeting/2074-03-20/
CATEGORIES:Other Events
END:VEVENT
BEGIN:VEVENT
DTSTART;TZID=America/Chicago:20740417T190000
DTEND;TZID=America/Chicago:20740417T190000
DTSTAMP:20260420T050534
CREATED:20220725T212449Z
LAST-MODIFIED:20220725T212449Z
UID:10001694-3291217200-3291217200@starvedrockrunners.org
SUMMARY:Monthly Board Meeting
DESCRIPTION:More info coming soon.
URL:https://starvedrockrunners.org/event/monthly-board-meeting/2074-04-17/
CATEGORIES:Other Events
END:VEVENT
BEGIN:VEVENT
DTSTART;TZID=America/Chicago:20740515T190000
DTEND;TZID=America/Chicago:20740515T190000
DTSTAMP:20260420T050534
CREATED:20220725T212449Z
LAST-MODIFIED:20220725T212449Z
UID:10001695-3293636400-3293636400@starvedrockrunners.org
SUMMARY:Monthly Board Meeting
DESCRIPTION:More info coming soon.
URL:https://starvedrockrunners.org/event/monthly-board-meeting/2074-05-15/
CATEGORIES:Other Events
END:VEVENT
BEGIN:VEVENT
DTSTART;TZID=America/Chicago:20740619T190000
DTEND;TZID=America/Chicago:20740619T190000
DTSTAMP:20260420T050534
CREATED:20220725T212449Z
LAST-MODIFIED:20220725T212449Z
UID:10001696-3296660400-3296660400@starvedrockrunners.org
SUMMARY:Monthly Board Meeting
DESCRIPTION:More info coming soon.
URL:https://starvedrockrunners.org/event/monthly-board-meeting/2074-06-19/
CATEGORIES:Other Events
END:VEVENT
BEGIN:VEVENT
DTSTART;TZID=America/Chicago:20740717T190000
DTEND;TZID=America/Chicago:20740717T190000
DTSTAMP:20260420T050534
CREATED:20220725T212449Z
LAST-MODIFIED:20220725T212449Z
UID:10001697-3299079600-3299079600@starvedrockrunners.org
SUMMARY:Monthly Board Meeting
DESCRIPTION:More info coming soon.
URL:https://starvedrockrunners.org/event/monthly-board-meeting/2074-07-17/
CATEGORIES:Other Events
END:VEVENT
BEGIN:VEVENT
DTSTART;TZID=America/Chicago:20740821T190000
DTEND;TZID=America/Chicago:20740821T190000
DTSTAMP:20260420T050534
CREATED:20220725T212449Z
LAST-MODIFIED:20220725T212449Z
UID:10001698-3302103600-3302103600@starvedrockrunners.org
SUMMARY:Monthly Board Meeting
DESCRIPTION:More info coming soon.
URL:https://starvedrockrunners.org/event/monthly-board-meeting/2074-08-21/
CATEGORIES:Other Events
END:VEVENT
BEGIN:VEVENT
DTSTART;TZID=America/Chicago:20740918T190000
DTEND;TZID=America/Chicago:20740918T190000
DTSTAMP:20260420T050534
CREATED:20220725T212449Z
LAST-MODIFIED:20220725T212449Z
UID:10001699-3304522800-3304522800@starvedrockrunners.org
SUMMARY:Monthly Board Meeting
DESCRIPTION:More info coming soon.
URL:https://starvedrockrunners.org/event/monthly-board-meeting/2074-09-18/
CATEGORIES:Other Events
END:VEVENT
BEGIN:VEVENT
DTSTART;TZID=America/Chicago:20741016T190000
DTEND;TZID=America/Chicago:20741016T190000
DTSTAMP:20260420T050534
CREATED:20220725T212449Z
LAST-MODIFIED:20220725T212449Z
UID:10001700-3306942000-3306942000@starvedrockrunners.org
SUMMARY:Monthly Board Meeting
DESCRIPTION:More info coming soon.
URL:https://starvedrockrunners.org/event/monthly-board-meeting/2074-10-16/
CATEGORIES:Other Events
END:VEVENT
BEGIN:VEVENT
DTSTART;TZID=America/Chicago:20741120T190000
DTEND;TZID=America/Chicago:20741120T190000
DTSTAMP:20260420T050534
CREATED:20220725T212449Z
LAST-MODIFIED:20220725T212449Z
UID:10001701-3309966000-3309966000@starvedrockrunners.org
SUMMARY:Monthly Board Meeting
DESCRIPTION:More info coming soon.
URL:https://starvedrockrunners.org/event/monthly-board-meeting/2074-11-20/
CATEGORIES:Other Events
END:VEVENT
BEGIN:VEVENT
DTSTART;TZID=America/Chicago:20741218T190000
DTEND;TZID=America/Chicago:20741218T190000
DTSTAMP:20260420T050534
CREATED:20220725T212449Z
LAST-MODIFIED:20220725T212449Z
UID:10001702-3312385200-3312385200@starvedrockrunners.org
SUMMARY:Monthly Board Meeting
DESCRIPTION:More info coming soon.
URL:https://starvedrockrunners.org/event/monthly-board-meeting/2074-12-18/
CATEGORIES:Other Events
END:VEVENT
BEGIN:VEVENT
DTSTART;TZID=America/Chicago:20750115T190000
DTEND;TZID=America/Chicago:20750115T190000
DTSTAMP:20260420T050534
CREATED:20220725T212449Z
LAST-MODIFIED:20220725T212449Z
UID:10001703-3314804400-3314804400@starvedrockrunners.org
SUMMARY:Monthly Board Meeting
DESCRIPTION:More info coming soon.
URL:https://starvedrockrunners.org/event/monthly-board-meeting/2075-01-15/
CATEGORIES:Other Events
END:VEVENT
BEGIN:VEVENT
DTSTART;TZID=America/Chicago:20750219T190000
DTEND;TZID=America/Chicago:20750219T190000
DTSTAMP:20260420T050534
CREATED:20220725T212449Z
LAST-MODIFIED:20220725T212449Z
UID:10001704-3317828400-3317828400@starvedrockrunners.org
SUMMARY:Monthly Board Meeting
DESCRIPTION:More info coming soon.
URL:https://starvedrockrunners.org/event/monthly-board-meeting/2075-02-19/
CATEGORIES:Other Events
END:VEVENT
BEGIN:VEVENT
DTSTART;TZID=America/Chicago:20750319T190000
DTEND;TZID=America/Chicago:20750319T190000
DTSTAMP:20260420T050534
CREATED:20220725T212449Z
LAST-MODIFIED:20220725T212449Z
UID:10001705-3320247600-3320247600@starvedrockrunners.org
SUMMARY:Monthly Board Meeting
DESCRIPTION:More info coming soon.
URL:https://starvedrockrunners.org/event/monthly-board-meeting/2075-03-19/
CATEGORIES:Other Events
END:VEVENT
BEGIN:VEVENT
DTSTART;TZID=America/Chicago:20750416T190000
DTEND;TZID=America/Chicago:20750416T190000
DTSTAMP:20260420T050534
CREATED:20220725T212449Z
LAST-MODIFIED:20220725T212449Z
UID:10001706-3322666800-3322666800@starvedrockrunners.org
SUMMARY:Monthly Board Meeting
DESCRIPTION:More info coming soon.
URL:https://starvedrockrunners.org/event/monthly-board-meeting/2075-04-16/
CATEGORIES:Other Events
END:VEVENT
BEGIN:VEVENT
DTSTART;TZID=America/Chicago:20750521T190000
DTEND;TZID=America/Chicago:20750521T190000
DTSTAMP:20260420T050534
CREATED:20220725T212449Z
LAST-MODIFIED:20220725T212449Z
UID:10001707-3325690800-3325690800@starvedrockrunners.org
SUMMARY:Monthly Board Meeting
DESCRIPTION:More info coming soon.
URL:https://starvedrockrunners.org/event/monthly-board-meeting/2075-05-21/
CATEGORIES:Other Events
END:VEVENT
BEGIN:VEVENT
DTSTART;TZID=America/Chicago:20750618T190000
DTEND;TZID=America/Chicago:20750618T190000
DTSTAMP:20260420T050534
CREATED:20220725T212449Z
LAST-MODIFIED:20220725T212449Z
UID:10001708-3328110000-3328110000@starvedrockrunners.org
SUMMARY:Monthly Board Meeting
DESCRIPTION:More info coming soon.
URL:https://starvedrockrunners.org/event/monthly-board-meeting/2075-06-18/
CATEGORIES:Other Events
END:VEVENT
BEGIN:VEVENT
DTSTART;TZID=America/Chicago:20750716T190000
DTEND;TZID=America/Chicago:20750716T190000
DTSTAMP:20260420T050534
CREATED:20220725T212449Z
LAST-MODIFIED:20220725T212449Z
UID:10001709-3330529200-3330529200@starvedrockrunners.org
SUMMARY:Monthly Board Meeting
DESCRIPTION:More info coming soon.
URL:https://starvedrockrunners.org/event/monthly-board-meeting/2075-07-16/
CATEGORIES:Other Events
END:VEVENT
BEGIN:VEVENT
DTSTART;TZID=America/Chicago:20750820T190000
DTEND;TZID=America/Chicago:20750820T190000
DTSTAMP:20260420T050534
CREATED:20220725T212449Z
LAST-MODIFIED:20220725T212449Z
UID:10001710-3333553200-3333553200@starvedrockrunners.org
SUMMARY:Monthly Board Meeting
DESCRIPTION:More info coming soon.
URL:https://starvedrockrunners.org/event/monthly-board-meeting/2075-08-20/
CATEGORIES:Other Events
END:VEVENT
BEGIN:VEVENT
DTSTART;TZID=America/Chicago:20750917T190000
DTEND;TZID=America/Chicago:20750917T190000
DTSTAMP:20260420T050534
CREATED:20220725T212449Z
LAST-MODIFIED:20220725T212449Z
UID:10001711-3335972400-3335972400@starvedrockrunners.org
SUMMARY:Monthly Board Meeting
DESCRIPTION:More info coming soon.
URL:https://starvedrockrunners.org/event/monthly-board-meeting/2075-09-17/
CATEGORIES:Other Events
END:VEVENT
BEGIN:VEVENT
DTSTART;TZID=America/Chicago:20751015T190000
DTEND;TZID=America/Chicago:20751015T190000
DTSTAMP:20260420T050534
CREATED:20220725T212449Z
LAST-MODIFIED:20220725T212449Z
UID:10001712-3338391600-3338391600@starvedrockrunners.org
SUMMARY:Monthly Board Meeting
DESCRIPTION:More info coming soon.
URL:https://starvedrockrunners.org/event/monthly-board-meeting/2075-10-15/
CATEGORIES:Other Events
END:VEVENT
END:VCALENDAR